BEGIN:VCALENDAR
VERSION:2.0
PRODID:-//InvisionCommunity Events 5.0.15//EN
METHOD:PUBLISH
CALSCALE:GREGORIAN
REFRESH-INTERVAL:PT15M
X-PUBLISHED-TTL:PT15M
X-WR-CALNAME:Calendrier
NAME:Calendrier
BEGIN:VTIMEZONE
TZID:Europe/London
TZURL:https://tzurl.org/zoneinfo/Europe/London
X-LIC-LOCATION:Europe/London
BEGIN:DAYLIGHT
TZOFFSETFROM:+0000
TZOFFSETTO:+0100
TZNAME:BST
DTSTART:20160327T020000Z
RRULE:FREQ=YEARLY;BYMONTH=3;BYDAY=-1SU
END:DAYLIGHT
BEGIN:STANDARD
TZOFFSETFROM:+0100
TZOFFSETTO:+0000
TZNAME:GMT
DTSTART:20161030T020000Z
RRULE:FREQ=YEARLY;BYMONTH=10;BYDAY=-1SU
END:STANDARD
END:VTIMEZONE
BEGIN:VEVENT
SUMMARY:Rando Eroue \"Vallée de Chevreuse\"
DTSTAMP:20160621T113000Z
SEQUENCE:0
UID:14-1-de0737cec4028c8c73e7b0a4249bc8c4@www.espritroue.fr
ORGANIZER;CN="Techos78":noreply@espritroue.fr
DESCRIPTION:\n	Le parcours sera très roulant et bucolique\, il reprendr
	a en grande partie le tracé de l’aérotrain qui devait à l’époque r
	ejoindre paris à Orléans (projet abandonné mais il reste du coup un t
	rès beau tracé bien plat en pleine forêt).Vous enchainerez donc\, chem
	ins très lisses en forêt\, tunnel\, viaduc et campagne paisible sur un t
	rajet de 20 km (intégrant des pointe de recharge) jusqu’au terminus du
	 RER B (gare de saint Remy-les-Chevreuse)\,et ce\, avec 200 amis et amou
	reux de la roue \;-)\n
DTSTART:20160626T130000Z
DTEND:20160626T170000Z
END:VEVENT
END:VCALENDAR
